Package: SCFA Version: 1.2.0 Command: rm -rf SCFA.buildbin-libdir && mkdir SCFA.buildbin-libdir && C:\Users\biocbuild\bbs-3.13-bioc\R\bin\R.exe CMD INSTALL --merge-multiarch --build --library=SCFA.buildbin-libdir SCFA_1.2.0.tar.gz StartedAt: 2021-10-15 11:39:15 -0400 (Fri, 15 Oct 2021) EndedAt: 2021-10-15 11:40:42 -0400 (Fri, 15 Oct 2021) EllapsedTime: 86.3 seconds RetCode: 0 Status: OK PackageFile: SCFA_1.2.0.zip PackageFileSize: 1.308 MiB