Package: SCnorm Version: 1.14.0 Command: rm -rf SCnorm.buildbin-libdir && mkdir SCnorm.buildbin-libdir && /Users/biocbuild/BBS/utils/build-universal.sh SCnorm_1.14.0.tar.gz /Library/Frameworks/R.framework/Versions/Current/Resources/bin/R SCnorm.buildbin-libdir StartedAt: 2021-10-15 03:55:08 -0400 (Fri, 15 Oct 2021) EndedAt: 2021-10-15 03:56:08 -0400 (Fri, 15 Oct 2021) EllapsedTime: 59.4 seconds RetCode: 0 Status: OK PackageFile: SCnorm_1.14.0.tgz PackageFileSize: 3.018 MiB