Package: SCnorm Version: 1.14.0 Command: /home/biocbuild/bbs-3.13-bioc/R/bin/R CMD build --keep-empty-dirs --no-resave-data SCnorm StartedAt: 2021-10-14 08:20:47 -0400 (Thu, 14 Oct 2021) EndedAt: 2021-10-14 08:24:08 -0400 (Thu, 14 Oct 2021) EllapsedTime: 200.5 seconds RetCode: 0 Status: OK PackageFile: SCnorm_1.14.0.tar.gz PackageFileSize: 2.951 MiB