Package: SCnorm Version: 1.14.0 Command: chmod a+r SCnorm -R && C:\Users\biocbuild\bbs-3.13-bioc\R\bin\R.exe CMD build --keep-empty-dirs --no-resave-data SCnorm StartedAt: 2021-10-14 18:01:50 -0400 (Thu, 14 Oct 2021) EndedAt: 2021-10-14 18:06:54 -0400 (Thu, 14 Oct 2021) EllapsedTime: 303.4 seconds RetCode: 0 Status: OK PackageFile: SCnorm_1.14.0.tar.gz PackageFileSize: 2.951 MiB