Package: SELEX Version: 1.24.0 Command: rm -rf SELEX.buildbin-libdir && mkdir SELEX.buildbin-libdir && /Users/biocbuild/BBS/utils/build-universal.sh SELEX_1.24.0.tar.gz /Library/Frameworks/R.framework/Versions/Current/Resources/bin/R SELEX.buildbin-libdir StartedAt: 2021-10-15 03:57:02 -0400 (Fri, 15 Oct 2021) EndedAt: 2021-10-15 03:58:00 -0400 (Fri, 15 Oct 2021) EllapsedTime: 58.5 seconds RetCode: 0 Status: OK PackageFile: SELEX_1.24.0.tgz PackageFileSize: 2.769 MiB