Package: SELEX Version: 1.24.0 Command: /Library/Frameworks/R.framework/Versions/Current/Resources/bin/R CMD INSTALL SELEX StartedAt: 2021-10-14 08:30:46 -0400 (Thu, 14 Oct 2021) EndedAt: 2021-10-14 08:31:22 -0400 (Thu, 14 Oct 2021) EllapsedTime: 36.0 seconds RetCode: 0 Status: OK