Package: SELEX Version: 1.24.0 Command: /home/biocbuild/bbs-3.13-bioc/R/bin/R CMD build --keep-empty-dirs --no-resave-data SELEX StartedAt: 2021-10-14 08:23:36 -0400 (Thu, 14 Oct 2021) EndedAt: 2021-10-14 08:24:00 -0400 (Thu, 14 Oct 2021) EllapsedTime: 24.6 seconds RetCode: 0 Status: OK PackageFile: SELEX_1.24.0.tar.gz PackageFileSize: 3.944 MiB