Package: SELEX Version: 1.24.0 Command: /home/biocbuild/bbs-3.13-bioc/R/bin/R CMD check --install=check:SELEX.install-out.txt --library=/home/biocbuild/bbs-3.13-bioc/R/library --no-vignettes --timings SELEX_1.24.0.tar.gz StartedAt: 2021-10-14 11:34:07 -0400 (Thu, 14 Oct 2021) EndedAt: 2021-10-14 11:35:33 -0400 (Thu, 14 Oct 2021) EllapsedTime: 86.1 seconds RetCode: 0 Status: OK CheckDir: SELEX.Rcheck Warnings: 0