Package: SELEX Version: 1.24.0 Command: rm -rf SELEX.buildbin-libdir && mkdir SELEX.buildbin-libdir && C:\Users\biocbuild\bbs-3.13-bioc\R\bin\R.exe --arch x64 CMD INSTALL --no-multiarch --build --library=SELEX.buildbin-libdir SELEX_1.24.0.tar.gz StartedAt: 2021-10-15 11:43:36 -0400 (Fri, 15 Oct 2021) EndedAt: 2021-10-15 11:44:35 -0400 (Fri, 15 Oct 2021) EllapsedTime: 58.7 seconds RetCode: 0 Status: OK PackageFile: SELEX_1.24.0.zip PackageFileSize: 2.823 MiB