Package: SEtools Version: 1.6.0 Command: /Library/Frameworks/R.framework/Versions/Current/Resources/bin/R CMD check --install=check:SEtools.install-out.txt --library=/Library/Frameworks/R.framework/Versions/Current/Resources/library --no-vignettes --timings SEtools_1.6.0.tar.gz StartedAt: 2021-10-14 23:56:50 -0400 (Thu, 14 Oct 2021) EndedAt: 2021-10-15 00:01:23 -0400 (Fri, 15 Oct 2021) EllapsedTime: 272.5 seconds RetCode: 0 Status: WARNINGS CheckDir: SEtools.Rcheck Warnings: 1