Package: SEtools Version: 1.6.0 Command: /Library/Frameworks/R.framework/Versions/Current/Resources/bin/R CMD INSTALL SEtools StartedAt: 2021-10-14 09:27:50 -0400 (Thu, 14 Oct 2021) EndedAt: 2021-10-14 09:28:39 -0400 (Thu, 14 Oct 2021) EllapsedTime: 48.7 seconds RetCode: 0 Status: OK