Package: SEtools Version: 1.6.0 Command: rm -rf SEtools.buildbin-libdir && mkdir SEtools.buildbin-libdir && C:\Users\biocbuild\bbs-3.13-bioc\R\bin\R.exe CMD INSTALL --merge-multiarch --build --library=SEtools.buildbin-libdir SEtools_1.6.0.tar.gz StartedAt: 2021-10-15 11:46:26 -0400 (Fri, 15 Oct 2021) EndedAt: 2021-10-15 11:48:00 -0400 (Fri, 15 Oct 2021) EllapsedTime: 94.8 seconds RetCode: 0 Status: OK PackageFile: SEtools_1.6.0.zip PackageFileSize: 580.9 KiB