Package: SEtools Version: 1.6.0 Command: chmod a+r SEtools -R && C:\Users\biocbuild\bbs-3.13-bioc\R\bin\R.exe CMD build --keep-empty-dirs --no-resave-data SEtools StartedAt: 2021-10-14 18:15:18 -0400 (Thu, 14 Oct 2021) EndedAt: 2021-10-14 18:17:34 -0400 (Thu, 14 Oct 2021) EllapsedTime: 136.1 seconds RetCode: 0 Status: OK PackageFile: SEtools_1.6.0.tar.gz PackageFileSize: 678.8 KiB