Package: SEtools Version: 1.6.0 Command: C:\cygwin\bin\curl.exe -O http://155.52.207.165/BBS/3.13/bioc/src/contrib/SEtools_1.6.0.tar.gz && rm -rf SEtools.buildbin-libdir && mkdir SEtools.buildbin-libdir && C:\Users\biocbuild\bbs-3.13-bioc\R\bin\R.exe CMD INSTALL --merge-multiarch --build --library=SEtools.buildbin-libdir SEtools_1.6.0.tar.gz && C:\Users\biocbuild\bbs-3.13-bioc\R\bin\R.exe CMD INSTALL SEtools_1.6.0.zip && rm SEtools_1.6.0.tar.gz SEtools_1.6.0.zip StartedAt: 2021-10-14 09:23:01 -0400 (Thu, 14 Oct 2021) EndedAt: 2021-10-14 09:24:02 -0400 (Thu, 14 Oct 2021) EllapsedTime: 60.6 seconds RetCode: 0 Status: OK