git_url: https://git.bioconductor.org/packages/SGSeq git_branch: RELEASE_3_13 git_last_commit: d7ca914 git_last_commit_date: 2021-05-19 12:08:58 -0400 (Wed, 19 May 2021) Package: SGSeq Version: 1.26.0 Maintainer: Leonard Goldstein MaintainerEmail: ldgoldstein at gmail.com