Package: SGSeq Version: 1.26.0 Command: /Library/Frameworks/R.framework/Versions/Current/Resources/bin/R CMD build --keep-empty-dirs --no-resave-data SGSeq StartedAt: 2021-10-14 14:54:25 -0400 (Thu, 14 Oct 2021) EndedAt: 2021-10-14 14:59:52 -0400 (Thu, 14 Oct 2021) EllapsedTime: 327.1 seconds RetCode: 0 Status: OK PackageFile: SGSeq_1.26.0.tar.gz PackageFileSize: 1.717 MiB