Package: SGSeq Version: 1.26.0 Command: /home/biocbuild/bbs-3.13-bioc/R/bin/R CMD build --keep-empty-dirs --no-resave-data SGSeq StartedAt: 2021-10-14 08:25:05 -0400 (Thu, 14 Oct 2021) EndedAt: 2021-10-14 08:28:13 -0400 (Thu, 14 Oct 2021) EllapsedTime: 188.2 seconds RetCode: 0 Status: OK PackageFile: SGSeq_1.26.0.tar.gz PackageFileSize: 1.721 MiB