Package: SGSeq Version: 1.26.0 Command: rm -rf SGSeq.buildbin-libdir && mkdir SGSeq.buildbin-libdir && C:\Users\biocbuild\bbs-3.13-bioc\R\bin\R.exe CMD INSTALL --merge-multiarch --build --library=SGSeq.buildbin-libdir SGSeq_1.26.0.tar.gz StartedAt: 2021-10-15 11:46:50 -0400 (Fri, 15 Oct 2021) EndedAt: 2021-10-15 11:48:25 -0400 (Fri, 15 Oct 2021) EllapsedTime: 95.7 seconds RetCode: 0 Status: OK PackageFile: SGSeq_1.26.0.zip PackageFileSize: 1.798 MiB