Package: SGSeq Version: 1.26.0 Command: chmod a+r SGSeq -R && C:\Users\biocbuild\bbs-3.13-bioc\R\bin\R.exe CMD build --keep-empty-dirs --no-resave-data SGSeq StartedAt: 2021-10-14 18:16:13 -0400 (Thu, 14 Oct 2021) EndedAt: 2021-10-14 18:20:03 -0400 (Thu, 14 Oct 2021) EllapsedTime: 230.4 seconds RetCode: 0 Status: OK PackageFile: SGSeq_1.26.0.tar.gz PackageFileSize: 1.642 MiB