Package: SICtools Version: 1.22.0 Command: rm -rf SICtools.buildbin-libdir && mkdir SICtools.buildbin-libdir && /Users/biocbuild/BBS/utils/build-universal.sh SICtools_1.22.0.tar.gz /Library/Frameworks/R.framework/Versions/Current/Resources/bin/R SICtools.buildbin-libdir StartedAt: 2021-10-15 03:59:36 -0400 (Fri, 15 Oct 2021) EndedAt: 2021-10-15 04:00:47 -0400 (Fri, 15 Oct 2021) EllapsedTime: 70.7 seconds RetCode: 0 Status: OK PackageFile: SICtools_1.22.0.tgz PackageFileSize: 1.326 MiB