Package: SICtools Version: 1.22.0 Command: /Library/Frameworks/R.framework/Versions/Current/Resources/bin/R CMD build --keep-empty-dirs --no-resave-data SICtools StartedAt: 2021-10-14 14:54:59 -0400 (Thu, 14 Oct 2021) EndedAt: 2021-10-14 14:56:17 -0400 (Thu, 14 Oct 2021) EllapsedTime: 78.1 seconds RetCode: 0 Status: OK PackageFile: SICtools_1.22.0.tar.gz PackageFileSize: 1.527 MiB