Package: SICtools Version: 1.22.0 Command: /Library/Frameworks/R.framework/Versions/Current/Resources/bin/R CMD check --install=check:SICtools.install-out.txt --library=/Library/Frameworks/R.framework/Versions/Current/Resources/library --no-vignettes --timings SICtools_1.22.0.tar.gz StartedAt: 2021-10-14 23:59:39 -0400 (Thu, 14 Oct 2021) EndedAt: 2021-10-15 00:01:50 -0400 (Fri, 15 Oct 2021) EllapsedTime: 131.0 seconds RetCode: 0 Status: WARNINGS CheckDir: SICtools.Rcheck Warnings: 1