Package: SICtools Version: 1.22.0 Command: /home/biocbuild/bbs-3.13-bioc/R/bin/R CMD check --install=check:SICtools.install-out.txt --library=/home/biocbuild/bbs-3.13-bioc/R/library --no-vignettes --timings SICtools_1.22.0.tar.gz StartedAt: 2021-10-14 11:36:50 -0400 (Thu, 14 Oct 2021) EndedAt: 2021-10-14 11:38:21 -0400 (Thu, 14 Oct 2021) EllapsedTime: 90.8 seconds RetCode: 0 Status: WARNINGS CheckDir: SICtools.Rcheck Warnings: 1