Package: SICtools Version: 1.22.0 Command: /home/biocbuild/bbs-3.13-bioc/R/bin/R CMD INSTALL SICtools StartedAt: 2021-10-14 06:10:39 -0400 (Thu, 14 Oct 2021) EndedAt: 2021-10-14 06:11:13 -0400 (Thu, 14 Oct 2021) EllapsedTime: 33.4 seconds RetCode: 0 Status: OK