Package: SIMAT Version: 1.24.0 Command: rm -rf SIMAT.buildbin-libdir && mkdir SIMAT.buildbin-libdir && C:\Users\biocbuild\bbs-3.13-bioc\R\bin\R.exe CMD INSTALL --merge-multiarch --build --library=SIMAT.buildbin-libdir SIMAT_1.24.0.tar.gz StartedAt: 2021-10-15 11:49:19 -0400 (Fri, 15 Oct 2021) EndedAt: 2021-10-15 11:50:40 -0400 (Fri, 15 Oct 2021) EllapsedTime: 80.5 seconds RetCode: 0 Status: OK PackageFile: SIMAT_1.24.0.zip PackageFileSize: 1.142 MiB