Package: SIMAT Version: 1.24.0 Command: C:\Users\biocbuild\bbs-3.13-bioc\R\bin\R.exe CMD check --force-multiarch --install=check:SIMAT.install-out.txt --library=C:\Users\biocbuild\bbs-3.13-bioc\R\library --no-vignettes --timings SIMAT_1.24.0.tar.gz StartedAt: 2021-10-15 05:44:50 -0400 (Fri, 15 Oct 2021) EndedAt: 2021-10-15 05:46:35 -0400 (Fri, 15 Oct 2021) EllapsedTime: 105.7 seconds RetCode: 0 Status: OK CheckDir: SIMAT.Rcheck Warnings: 0