Package: SNAGEE Version: 1.32.0 Command: /home/biocbuild/bbs-3.13-bioc/R/bin/R CMD INSTALL SNAGEE StartedAt: 2021-10-14 06:35:29 -0400 (Thu, 14 Oct 2021) EndedAt: 2021-10-14 06:35:31 -0400 (Thu, 14 Oct 2021) EllapsedTime: 1.7 seconds RetCode: 0 Status: OK