Package: SNAGEE Version: 1.32.0 Command: C:\cygwin\bin\curl.exe -O http://155.52.207.165/BBS/3.13/bioc/src/contrib/SNAGEE_1.32.0.tar.gz && rm -rf SNAGEE.buildbin-libdir && mkdir SNAGEE.buildbin-libdir && C:\Users\biocbuild\bbs-3.13-bioc\R\bin\R.exe CMD INSTALL --merge-multiarch --build --library=SNAGEE.buildbin-libdir SNAGEE_1.32.0.tar.gz && C:\Users\biocbuild\bbs-3.13-bioc\R\bin\R.exe CMD INSTALL SNAGEE_1.32.0.zip && rm SNAGEE_1.32.0.tar.gz SNAGEE_1.32.0.zip StartedAt: 2021-10-14 11:18:20 -0400 (Thu, 14 Oct 2021) EndedAt: 2021-10-14 11:18:39 -0400 (Thu, 14 Oct 2021) EllapsedTime: 18.6 seconds RetCode: 0 Status: OK