Package: SNPRelate Version: 1.26.0 Command: C:\Users\biocbuild\bbs-3.13-bioc\R\bin\R.exe CMD check --force-multiarch --install=check:SNPRelate.install-out.txt --library=C:\Users\biocbuild\bbs-3.13-bioc\R\library --no-vignettes --timings SNPRelate_1.26.0.tar.gz StartedAt: 2021-10-15 05:55:49 -0400 (Fri, 15 Oct 2021) EndedAt: 2021-10-15 05:59:43 -0400 (Fri, 15 Oct 2021) EllapsedTime: 234.4 seconds RetCode: 0 Status: OK CheckDir: SNPRelate.Rcheck Warnings: 0