Package: SNPediaR Version: 1.18.0 Command: /Library/Frameworks/R.framework/Versions/Current/Resources/bin/R CMD build --keep-empty-dirs --no-resave-data SNPediaR StartedAt: 2021-10-14 15:04:21 -0400 (Thu, 14 Oct 2021) EndedAt: 2021-10-14 15:04:43 -0400 (Thu, 14 Oct 2021) EllapsedTime: 21.8 seconds RetCode: 0 Status: OK PackageFile: SNPediaR_1.18.0.tar.gz PackageFileSize: 230 KiB