Package: SNPediaR Version: 1.18.0 Command: chmod a+r SNPediaR -R && C:\Users\biocbuild\bbs-3.13-bioc\R\bin\R.exe CMD build --keep-empty-dirs --no-resave-data SNPediaR StartedAt: 2021-10-14 18:26:00 -0400 (Thu, 14 Oct 2021) EndedAt: 2021-10-14 18:26:36 -0400 (Thu, 14 Oct 2021) EllapsedTime: 36.4 seconds RetCode: 1 Status: ERROR PackageFile: None PackageFileSize: NA