git_url: https://git.bioconductor.org/packages/SNPhood git_branch: RELEASE_3_13 git_last_commit: 562991f git_last_commit_date: 2021-05-19 12:16:25 -0400 (Wed, 19 May 2021) Package: SNPhood Version: 1.22.0 Maintainer: Christian Arnold MaintainerEmail: christian.arnold at embl.de