Package: SNPhood Version: 1.22.0 Command: /Library/Frameworks/R.framework/Versions/Current/Resources/bin/R CMD build --keep-empty-dirs --no-resave-data SNPhood StartedAt: 2021-10-14 15:04:27 -0400 (Thu, 14 Oct 2021) EndedAt: 2021-10-14 15:09:59 -0400 (Thu, 14 Oct 2021) EllapsedTime: 331.6 seconds RetCode: 0 Status: OK PackageFile: SNPhood_1.22.0.tar.gz PackageFileSize: 7.958 MiB