Package: SNPhood Version: 1.22.0 Command: /home/biocbuild/bbs-3.13-bioc/R/bin/R CMD build --keep-empty-dirs --no-resave-data SNPhood StartedAt: 2021-10-14 08:28:14 -0400 (Thu, 14 Oct 2021) EndedAt: 2021-10-14 08:32:49 -0400 (Thu, 14 Oct 2021) EllapsedTime: 275.7 seconds RetCode: 0 Status: OK PackageFile: SNPhood_1.22.0.tar.gz PackageFileSize: 7.961 MiB