Package: SNPhood Version: 1.22.0 Command: /home/biocbuild/bbs-3.13-bioc/R/bin/R CMD check --install=check:SNPhood.install-out.txt --library=/home/biocbuild/bbs-3.13-bioc/R/library --no-vignettes --timings SNPhood_1.22.0.tar.gz StartedAt: 2021-10-14 11:41:03 -0400 (Thu, 14 Oct 2021) EndedAt: 2021-10-14 11:50:29 -0400 (Thu, 14 Oct 2021) EllapsedTime: 565.6 seconds RetCode: 0 Status: OK CheckDir: SNPhood.Rcheck Warnings: 0