git_url: https://git.bioconductor.org/packages/SOMNiBUS git_branch: RELEASE_3_13 git_last_commit: c53c179 git_last_commit_date: 2021-05-19 12:59:22 -0400 (Wed, 19 May 2021) Package: SOMNiBUS Version: 1.0.0 Maintainer: Kathleen Klein MaintainerEmail: kathleen.klein at mail.mcgill.ca