Package: SOMNiBUS Version: 1.0.0 Command: chmod a+r SOMNiBUS -R && C:\Users\biocbuild\bbs-3.13-bioc\R\bin\R.exe CMD build --keep-empty-dirs --no-resave-data SOMNiBUS StartedAt: 2021-10-14 18:27:02 -0400 (Thu, 14 Oct 2021) EndedAt: 2021-10-14 18:28:09 -0400 (Thu, 14 Oct 2021) EllapsedTime: 66.1 seconds RetCode: 0 Status: OK PackageFile: SOMNiBUS_1.0.0.tar.gz PackageFileSize: 4.466 MiB