Package: SRAdb Version: 1.54.0 Command: rm -rf SRAdb.buildbin-libdir && mkdir SRAdb.buildbin-libdir && /Users/biocbuild/BBS/utils/build-universal.sh SRAdb_1.54.0.tar.gz /Library/Frameworks/R.framework/Versions/Current/Resources/bin/R SRAdb.buildbin-libdir StartedAt: 2021-10-15 04:07:05 -0400 (Fri, 15 Oct 2021) EndedAt: 2021-10-15 04:08:15 -0400 (Fri, 15 Oct 2021) EllapsedTime: 69.9 seconds RetCode: 0 Status: OK PackageFile: SRAdb_1.54.0.tgz PackageFileSize: 793.1 KiB