Package: SRAdb Version: 1.54.0 Command: /Library/Frameworks/R.framework/Versions/Current/Resources/bin/R CMD INSTALL SRAdb StartedAt: 2021-10-14 09:39:02 -0400 (Thu, 14 Oct 2021) EndedAt: 2021-10-14 09:39:50 -0400 (Thu, 14 Oct 2021) EllapsedTime: 47.5 seconds RetCode: 0 Status: OK