Package: SRAdb Version: 1.54.0 Command: /home/biocbuild/bbs-3.13-bioc/R/bin/R CMD build --keep-empty-dirs --no-resave-data SRAdb StartedAt: 2021-10-14 08:30:27 -0400 (Thu, 14 Oct 2021) EndedAt: 2021-10-14 08:30:39 -0400 (Thu, 14 Oct 2021) EllapsedTime: 11.6 seconds RetCode: 0 Status: OK PackageFile: SRAdb_1.54.0.tar.gz PackageFileSize: 807.5 KiB