Package: SSPA Version: 2.32.1 Command: /Library/Frameworks/R.framework/Versions/Current/Resources/bin/R CMD build --keep-empty-dirs --no-resave-data SSPA StartedAt: 2021-10-14 15:10:48 -0400 (Thu, 14 Oct 2021) EndedAt: 2021-10-14 15:11:23 -0400 (Thu, 14 Oct 2021) EllapsedTime: 35.1 seconds RetCode: 0 Status: OK PackageFile: SSPA_2.32.1.tar.gz PackageFileSize: 1.155 MiB