Package: SSPA Version: 2.32.1 Command: /Library/Frameworks/R.framework/Versions/Current/Resources/bin/R CMD check --install=check:SSPA.install-out.txt --library=/Library/Frameworks/R.framework/Versions/Current/Resources/library --no-vignettes --timings SSPA_2.32.1.tar.gz StartedAt: 2021-10-15 00:25:59 -0400 (Fri, 15 Oct 2021) EndedAt: 2021-10-15 00:26:05 -0400 (Fri, 15 Oct 2021) EllapsedTime: 5.5 seconds RetCode: 1 Status: ERROR CheckDir: SSPA.Rcheck Warnings: NA