Package: SSPA Version: 2.32.1 Command: /home/biocbuild/bbs-3.13-bioc/R/bin/R CMD check --install=check:SSPA.install-out.txt --library=/home/biocbuild/bbs-3.13-bioc/R/library --no-vignettes --timings SSPA_2.32.1.tar.gz StartedAt: 2021-10-14 11:45:50 -0400 (Thu, 14 Oct 2021) EndedAt: 2021-10-14 11:45:55 -0400 (Thu, 14 Oct 2021) EllapsedTime: 5.4 seconds RetCode: 1 Status: ERROR CheckDir: SSPA.Rcheck Warnings: NA