Package: STAN Version: 2.20.0 Command: /Library/Frameworks/R.framework/Versions/Current/Resources/bin/R CMD check --install=check:STAN.install-out.txt --library=/Library/Frameworks/R.framework/Versions/Current/Resources/library --no-vignettes --timings STAN_2.20.0.tar.gz StartedAt: 2021-10-15 00:26:48 -0400 (Fri, 15 Oct 2021) EndedAt: 2021-10-15 00:33:17 -0400 (Fri, 15 Oct 2021) EllapsedTime: 389.1 seconds RetCode: 0 Status: WARNINGS CheckDir: STAN.Rcheck Warnings: 1