Package: STAN Version: 2.20.0 Command: /Library/Frameworks/R.framework/Versions/Current/Resources/bin/R CMD INSTALL STAN StartedAt: 2021-10-14 10:14:06 -0400 (Thu, 14 Oct 2021) EndedAt: 2021-10-14 10:15:20 -0400 (Thu, 14 Oct 2021) EllapsedTime: 74.0 seconds RetCode: 0 Status: OK