Package: STAN Version: 2.20.0 Command: /home/biocbuild/bbs-3.13-bioc/R/bin/R CMD check --install=check:STAN.install-out.txt --library=/home/biocbuild/bbs-3.13-bioc/R/library --no-vignettes --timings STAN_2.20.0.tar.gz StartedAt: 2021-10-14 11:45:55 -0400 (Thu, 14 Oct 2021) EndedAt: 2021-10-14 11:50:36 -0400 (Thu, 14 Oct 2021) EllapsedTime: 280.8 seconds RetCode: 0 Status: OK CheckDir: STAN.Rcheck Warnings: 0