git_url: https://git.bioconductor.org/packages/STATegRa git_branch: RELEASE_3_13 git_last_commit: 0992626 git_last_commit_date: 2021-05-19 12:08:55 -0400 (Wed, 19 May 2021) Package: STATegRa Version: 1.28.0 Maintainer: David Gomez-Cabrero , NĂºria Planell MaintainerEmail: nuria.planell.picola at navarra.es