Package: STATegRa Version: 1.28.0 Command: /Library/Frameworks/R.framework/Versions/Current/Resources/bin/R CMD build --keep-empty-dirs --no-resave-data STATegRa StartedAt: 2021-10-14 15:11:38 -0400 (Thu, 14 Oct 2021) EndedAt: 2021-10-14 15:14:07 -0400 (Thu, 14 Oct 2021) EllapsedTime: 149.1 seconds RetCode: 0 Status: OK PackageFile: STATegRa_1.28.0.tar.gz PackageFileSize: 4.801 MiB