Package: STATegRa Version: 1.28.0 Command: /Library/Frameworks/R.framework/Versions/Current/Resources/bin/R CMD INSTALL STATegRa StartedAt: 2021-10-14 08:52:56 -0400 (Thu, 14 Oct 2021) EndedAt: 2021-10-14 08:53:52 -0400 (Thu, 14 Oct 2021) EllapsedTime: 56.2 seconds RetCode: 0 Status: OK