Package: STATegRa Version: 1.28.0 Command: rm -rf STATegRa.buildbin-libdir && mkdir STATegRa.buildbin-libdir && C:\Users\biocbuild\bbs-3.13-bioc\R\bin\R.exe CMD INSTALL --merge-multiarch --build --library=STATegRa.buildbin-libdir STATegRa_1.28.0.tar.gz StartedAt: 2021-10-15 12:01:30 -0400 (Fri, 15 Oct 2021) EndedAt: 2021-10-15 12:02:54 -0400 (Fri, 15 Oct 2021) EllapsedTime: 83.9 seconds RetCode: 0 Status: OK PackageFile: STATegRa_1.28.0.zip PackageFileSize: 3.89 MiB